BEGIN:VCALENDAR
VERSION:2.0
PRODID:-//Ehrenamt in Brandenburg - ECPv6.15.20//NONSGML v1.0//EN
CALSCALE:GREGORIAN
METHOD:PUBLISH
X-ORIGINAL-URL:https://ehrenamt-in-brandenburg.de
X-WR-CALDESC:Veranstaltungen für Ehrenamt in Brandenburg
REFRESH-INTERVAL;VALUE=DURATION:PT1H
X-Robots-Tag:noindex
X-PUBLISHED-TTL:PT1H
BEGIN:VTIMEZONE
TZID:Europe/Berlin
BEGIN:DAYLIGHT
TZOFFSETFROM:+0100
TZOFFSETTO:+0200
TZNAME:CEST
DTSTART:20250330T010000
END:DAYLIGHT
BEGIN:STANDARD
TZOFFSETFROM:+0200
TZOFFSETTO:+0100
TZNAME:CET
DTSTART:20251026T010000
END:STANDARD
BEGIN:DAYLIGHT
TZOFFSETFROM:+0100
TZOFFSETTO:+0200
TZNAME:CEST
DTSTART:20260329T010000
END:DAYLIGHT
BEGIN:STANDARD
TZOFFSETFROM:+0200
TZOFFSETTO:+0100
TZNAME:CET
DTSTART:20261025T010000
END:STANDARD
BEGIN:DAYLIGHT
TZOFFSETFROM:+0100
TZOFFSETTO:+0200
TZNAME:CEST
DTSTART:20270328T010000
END:DAYLIGHT
BEGIN:STANDARD
TZOFFSETFROM:+0200
TZOFFSETTO:+0100
TZNAME:CET
DTSTART:20271031T010000
END:STANDARD
END:VTIMEZONE
BEGIN:VEVENT
DTSTART;TZID=Europe/Berlin:20261008T150000
DTEND;TZID=Europe/Berlin:20261008T163000
DTSTAMP:20260420T234818
CREATED:20260331T144215Z
LAST-MODIFIED:20260331T144215Z
UID:18378-1791471600-1791477000@ehrenamt-in-brandenburg.de
SUMMARY:#EngagiertGeforscht meets Wissenschaftszentrum Berlin: Organisierte Zivilgesellschaft und rechte Interventionen
DESCRIPTION:Veränderungen in gemeinnützigen Organisationen gehören zum Alltag. Manchmal werden sie bewusst angestoßen\, zum Beispiel durch Organisationsentwicklung. Manchmal entstehen sie durch äußere Einflüsse – etwa durch gesellschaftliche Debatten oder finanzielle Kürzungen. Organisationen stehen bei solchen Veränderungen nicht selten vor der Herausforderung\, auch weiterhin das zu leben\, wofür sie wirklich stehen wollen. \nProf. Dr. Marlene Walk beschäftigt sich mit ihrem Forschungsteam genau mit dieser Herausforderung und der Frage: Wie kann der Anspruch\, wohltätig und gemeinnützig zu handeln\, auch unter herausfordernden Veränderungen intern umgesetzt werden? \nAusgangspunkt der Studie ist die Ermordung von George Floyd und die Black-Lives-Matter-Proteste im Frühjahr 2020. Am Beispiel von Bürgerstiftungen in den USA untersucht das Forschungsteam\, wie Organisationen sich strategisch und strukturell verändern\, um sich klar gegen Rassismus in den eigenen Reihen zu positionieren. \nDie Ergebnisse zeigen: Entscheidend sind gemeinsame Lernprozesse innerhalb der Organisation. Mitarbeitende und Engagierte setzen sich miteinander auseinander\, hinterfragen Routinen und entwickeln neue Perspektiven. Das führt zu konkreten Veränderungen – etwa in der Sprache\, im täglichen Handeln\, in Entscheidungsstrukturen und in der Kultur des Miteinanders. \nWir laden zu einem 90-minütigen Webinar ein\, in dem zentrale Ergebnisse der Studie sowie praxisorientierte Tipps für gerechtigkeitsorientierte Veränderungsprozesse vorgestellt werden. Zugleich soll Raum für Fragen\, Diskussion und fachlichen Austausch entstehen. Die Veranstaltung richtet sich insbesondere an Akteur:innen aus der Engagementpraxis\, die wissenschaftliche Impulse für die Weiterentwicklung von Engagement und Ehrenamt in Deutschland nutzen möchten und offen sind für Perspektiven aus anderen Kontexten. \nReferierende: Prof. Dr. Marlene Walk
URL:https://ehrenamt-in-brandenburg.de/event/engagiertgeforscht-meets-wissenschaftszentrum-berlin-organisierte-zivilgesellschaft-und-rechte-interventionen/
LOCATION:Online
CATEGORIES:Online,Webinar
ORGANIZER;CN="Deutsche Stiftung f%C3%BCr Engagement und Ehrenamt":MAILTO:hallo@d-s-e-e.de
END:VEVENT
END:VCALENDAR