BEGIN:VCALENDAR
VERSION:2.0
PRODID:-//Ehrenamt in Brandenburg - ECPv6.15.20//NONSGML v1.0//EN
CALSCALE:GREGORIAN
METHOD:PUBLISH
X-ORIGINAL-URL:https://ehrenamt-in-brandenburg.de
X-WR-CALDESC:Veranstaltungen für Ehrenamt in Brandenburg
REFRESH-INTERVAL;VALUE=DURATION:PT1H
X-Robots-Tag:noindex
X-PUBLISHED-TTL:PT1H
BEGIN:VTIMEZONE
TZID:Europe/Berlin
BEGIN:DAYLIGHT
TZOFFSETFROM:+0100
TZOFFSETTO:+0200
TZNAME:CEST
DTSTART:20250330T010000
END:DAYLIGHT
BEGIN:STANDARD
TZOFFSETFROM:+0200
TZOFFSETTO:+0100
TZNAME:CET
DTSTART:20251026T010000
END:STANDARD
BEGIN:DAYLIGHT
TZOFFSETFROM:+0100
TZOFFSETTO:+0200
TZNAME:CEST
DTSTART:20260329T010000
END:DAYLIGHT
BEGIN:STANDARD
TZOFFSETFROM:+0200
TZOFFSETTO:+0100
TZNAME:CET
DTSTART:20261025T010000
END:STANDARD
BEGIN:DAYLIGHT
TZOFFSETFROM:+0100
TZOFFSETTO:+0200
TZNAME:CEST
DTSTART:20270328T010000
END:DAYLIGHT
BEGIN:STANDARD
TZOFFSETFROM:+0200
TZOFFSETTO:+0100
TZNAME:CET
DTSTART:20271031T010000
END:STANDARD
END:VTIMEZONE
BEGIN:VEVENT
DTSTART;TZID=Europe/Berlin:20260917T150000
DTEND;TZID=Europe/Berlin:20260917T163000
DTSTAMP:20260420T164944
CREATED:20260331T143958Z
LAST-MODIFIED:20260331T143958Z
UID:18376-1789657200-1789662600@ehrenamt-in-brandenburg.de
SUMMARY:#EngagiertGeforscht meets Ruhr-Universität Bochum: Ehrenamtliche Bürgermeister:innen - die unbekannten Wesen
DESCRIPTION:Knapp 60 Prozent aller deutschen Gemeinden werden durch ehrenamtliche Bürgermeister:innen verwaltet. 20 Stunden pro Woche wenden sie im Schnitt für ihr Ehrenamt auf – besonders in ländlichen und kleinen Kommunen spielen sie eine wichtige Rolle für die politische Repräsentation. Sie engagieren sich mit großem persönlichem Einsatz für ihre Gemeinde und übernehmen Verantwortung – oft neben Beruf und Familie. Doch welche persönlichen Voraussetzungen bringen sie mit\, was motiviert sie\, wie gestalten sie ihr Amt – und welche Rahmenbedingungen brauchen sie\, um ihr Engagement langfristig ausüben zu können? \nDie Studie des Zentrums für Interdisziplinäre Regionalforschung (ZEFIR) der Ruhr-Universität Bochum hat erstmals Rahmenbedingungen\, Potenziale und Herausforderungen dieses politischen Ehrenamtes beleuchtet. Neben der systematischen Analyse der rechtlichen Rahmenbedingungen\, wurden dafür 1.500 ehrenamtliche Bürgermeister:innen online befragt. Bei #EngagiertGeforscht stellt Dr. David Gehne zentrale Ergebnisse der Studie vor und zeigt auf\, welche konkreten Ansätze das Amt für ehrenamtliche Bürgermeister:innen stärken und attraktiver machen können. \nDas 90-minütige Webinar bietet Einblicke in die Studie sowie Raum für Austausch\, Diskussion und Fragen. Die Veranstaltung richtet sich primär an interessierte Personen aus der Engagementpraxis\, die neue wissenschaftliche Erkenntnisse nutzen wollen\, um das Engagement und Ehrenamt in Deutschland mitzugestalten und zu stärken. \nReferierende: Dr. David Gehne
URL:https://ehrenamt-in-brandenburg.de/event/engagiertgeforscht-meets-ruhr-universitaet-bochum-ehrenamtliche-buergermeisterinnen-die-unbekannten-wesen/
LOCATION:Online
CATEGORIES:Online,Webinar
ORGANIZER;CN="Deutsche Stiftung f%C3%BCr Engagement und Ehrenamt":MAILTO:hallo@d-s-e-e.de
END:VEVENT
END:VCALENDAR