BEGIN:VCALENDAR
VERSION:2.0
PRODID:-//Ehrenamt in Brandenburg - ECPv6.15.20//NONSGML v1.0//EN
CALSCALE:GREGORIAN
METHOD:PUBLISH
X-WR-CALNAME:Ehrenamt in Brandenburg
X-ORIGINAL-URL:https://ehrenamt-in-brandenburg.de
X-WR-CALDESC:Veranstaltungen für Ehrenamt in Brandenburg
REFRESH-INTERVAL;VALUE=DURATION:PT1H
X-Robots-Tag:noindex
X-PUBLISHED-TTL:PT1H
BEGIN:VTIMEZONE
TZID:Europe/Berlin
BEGIN:DAYLIGHT
TZOFFSETFROM:+0100
TZOFFSETTO:+0200
TZNAME:CEST
DTSTART:20250330T010000
END:DAYLIGHT
BEGIN:STANDARD
TZOFFSETFROM:+0200
TZOFFSETTO:+0100
TZNAME:CET
DTSTART:20251026T010000
END:STANDARD
BEGIN:DAYLIGHT
TZOFFSETFROM:+0100
TZOFFSETTO:+0200
TZNAME:CEST
DTSTART:20260329T010000
END:DAYLIGHT
BEGIN:STANDARD
TZOFFSETFROM:+0200
TZOFFSETTO:+0100
TZNAME:CET
DTSTART:20261025T010000
END:STANDARD
BEGIN:DAYLIGHT
TZOFFSETFROM:+0100
TZOFFSETTO:+0200
TZNAME:CEST
DTSTART:20270328T010000
END:DAYLIGHT
BEGIN:STANDARD
TZOFFSETFROM:+0200
TZOFFSETTO:+0100
TZNAME:CET
DTSTART:20271031T010000
END:STANDARD
END:VTIMEZONE
BEGIN:VEVENT
DTSTART;TZID=Europe/Berlin:20260218T170000
DTEND;TZID=Europe/Berlin:20260218T181500
DTSTAMP:20260421T113411
CREATED:20251209T151411Z
LAST-MODIFIED:20251209T151411Z
UID:18114-1771434000-1771438500@ehrenamt-in-brandenburg.de
SUMMARY:#DSEEerklärt Fördermittel: Ausgeschrieben gute Idee - Antragsfragen erfolgreich formulieren
DESCRIPTION:Das Formulieren von Antragsfragen ist oft eine Herausforderung bei der Fördermittelakquise für Einsteiger:innen. Wer weiß\, worauf Fördernde achten und ein gutes Verständnis der Fragen und ihrer Logik hat\, kann Inhalte gezielt und wirkungsvoll darstellen. Im Online-Seminar zeigen wir euch\, worauf zu Beginn der Antragstellung zu achten ist – von der Prüfung der Antragsberechtigung bis zum Verstehen der Förderrichtlinien. Anschließend erhaltet ihr konkrete Hilfestellungen\, um zentrale Antragsfragen gezielt und strukturiert zu beantworten.\nDieses Angebot vermittelt Grundlagen in diesem Themenbereich und richtet sich an Engagierte\, die wenig Vorerfahrung haben
URL:https://ehrenamt-in-brandenburg.de/event/dseeerklaert-foerdermittel-ausgeschrieben-gute-idee-antragsfragen-erfolgreich-formulieren/
LOCATION:Online
CATEGORIES:Online,Webinar
ORGANIZER;CN="Deutsche Stiftung f%C3%BCr Engagement und Ehrenamt":MAILTO:hallo@d-s-e-e.de
END:VEVENT
END:VCALENDAR