BEGIN:VCALENDAR
VERSION:2.0
PRODID:-//Ehrenamt in Brandenburg - ECPv6.15.20//NONSGML v1.0//EN
CALSCALE:GREGORIAN
METHOD:PUBLISH
X-ORIGINAL-URL:https://ehrenamt-in-brandenburg.de
X-WR-CALDESC:Veranstaltungen für Ehrenamt in Brandenburg
REFRESH-INTERVAL;VALUE=DURATION:PT1H
X-Robots-Tag:noindex
X-PUBLISHED-TTL:PT1H
BEGIN:VTIMEZONE
TZID:Europe/Berlin
BEGIN:DAYLIGHT
TZOFFSETFROM:+0100
TZOFFSETTO:+0200
TZNAME:CEST
DTSTART:20250330T010000
END:DAYLIGHT
BEGIN:STANDARD
TZOFFSETFROM:+0200
TZOFFSETTO:+0100
TZNAME:CET
DTSTART:20251026T010000
END:STANDARD
BEGIN:DAYLIGHT
TZOFFSETFROM:+0100
TZOFFSETTO:+0200
TZNAME:CEST
DTSTART:20260329T010000
END:DAYLIGHT
BEGIN:STANDARD
TZOFFSETFROM:+0200
TZOFFSETTO:+0100
TZNAME:CET
DTSTART:20261025T010000
END:STANDARD
BEGIN:DAYLIGHT
TZOFFSETFROM:+0100
TZOFFSETTO:+0200
TZNAME:CEST
DTSTART:20270328T010000
END:DAYLIGHT
BEGIN:STANDARD
TZOFFSETFROM:+0200
TZOFFSETTO:+0100
TZNAME:CET
DTSTART:20271031T010000
END:STANDARD
END:VTIMEZONE
BEGIN:VEVENT
DTSTART;TZID=Europe/Berlin:20260217T123000
DTEND;TZID=Europe/Berlin:20260217T150000
DTSTAMP:20260419T182541
CREATED:20260126T152450Z
LAST-MODIFIED:20260126T152450Z
UID:18216-1771331400-1771340400@ehrenamt-in-brandenburg.de
SUMMARY:Konstituierenden Sitzung Adhoc-Gruppe Ländliche Räume
DESCRIPTION:Das Bundesnetzwerk Bürgerschaftliches Engagment lädt herzlich zur konstituierenden Sitzung der BBE-Adhoc-Gruppe „Engagement in ländlichen Räumen“ ein: \nWann: Di\, 17. Februar 2026\, 12.30 – 15.30 Uhr \nWo: hybrid\, BBE-Geschäftsstelle\, Michaelkirchstraße 17/18\, 10179 Berlin \nAnmeldung über diesen Link (mit Angabe\, ob eine Teilnahme digital oder vor Ort gewünscht ist) \nBitte um Anmeldung bis zum 3. Februar 2026. \nBei der letzten BBE-Mitgliederversammlung wurde die neue Adhoc-Gruppe „Engagement in ländlichen Räumen“ einberufen\, die ab 2026 ihre Arbeit aufnehmen und bis Ende 2027 laufen wird. Gemeinsam mit Mitgliedern aus dem BBE-Netzwerk sowie Interessierten soll die Frage bearbeitet werden\, wie Engagementförderung speziell in ländlichen Räumen gestaltet und vorangetrieben werden kann: Welche speziellen Bedürfnisse und Herausforderungen hat die Zivilgesellschaft in ländlichen\, strukturschwachen Regionen\, um aktiv zu bleiben oder zu werden? Welche Engagementstrukturen funktionieren für diese Bedarfe? \nEs sollen politische Impulse gesetzt werden\, die auf dem kürzlich veröffentlichten Empfehlungspapier aufbauen. \nMit der neuen Adhoc-Arbeitsgruppe schaffen wir einen Raum für Austausch\, Vernetzung und Wissenstransfer zur Engagementförderung in ländlichen Räumen im BBE. Die Gruppe bestimmt ihre Arbeitsweise selbst\, einschließlich Formaten\, Turnus und inhaltlichen Schwerpunkten. In der konstituierenden Sitzung kann die Adhoc-Arbeitsgruppe über die künftige Zusammenarbeit\, etwa über geeignete Formate und Arbeitsweisen und die eventuelle Wahl eines Sprecher*innenteams entscheiden. \nAuf der Homepage wird das neue Themenfeld noch eingerichtet und dann hier zu finden sein: https://www.b-b-e.de/themenfelder/. \n 
URL:https://ehrenamt-in-brandenburg.de/event/konstituierenden-sitzung-adhoc-gruppe-laendliche-raeume/
LOCATION:digital
CATEGORIES:Auftaktveranstaltung,Diskussion,Forum,Online,Webtalk
ORGANIZER;CN="Bundesnetzwerk B%C3%BCrgerschaftliches Engagement%2C BBE Gesch%C3%A4ftsstelle gemeinn%C3%BCtzige GmbH":MAILTO:info@b-b-e.de
END:VEVENT
BEGIN:VEVENT
DTSTART;TZID=Europe/Berlin:20260217T170000
DTEND;TZID=Europe/Berlin:20260217T181500
DTSTAMP:20260419T182541
CREATED:20251209T151240Z
LAST-MODIFIED:20251209T151240Z
UID:18112-1771347600-1771352100@ehrenamt-in-brandenburg.de
SUMMARY:#DSEEerklärt Fördermittel: Find ich gut - Orientierung in der Förderlandschaft
DESCRIPTION:Wenn ihr erfolgreich Projektanträge stellen möchtet\, ist ein gutes Verständnis der Förderlandschaft in Deutschland eine wichtige Grundlage. In diesem Online-Seminar erhaltet ihr einen praxisnahen Überblick über öffentliche Förderungen\, Stiftungen\, Lotterien und Preise – und erfahrt\, wie ihr gezielt passende Förderprogramme recherchiert. Zudem lernt ihr\, eine eigene Fördersammlung als Grundlage für langfristige Finanzierung und wirksame Projektarbeit aufzubauen. \n\n\n\n\n\n\n\n\n\n\nDieses Angebot vermittelt Grundlagen in diesem Themenbereich und richtet sich an Engagierte\, die wenig Vorerfahrung haben.
URL:https://ehrenamt-in-brandenburg.de/event/dseeerklaert-foerdermittel-find-ich-gut-orientierung-in-der-foerderlandschaft/
LOCATION:Online
CATEGORIES:Online,Webinar
ORGANIZER;CN="Deutsche Stiftung f%C3%BCr Engagement und Ehrenamt":MAILTO:hallo@d-s-e-e.de
END:VEVENT
END:VCALENDAR