BEGIN:VCALENDAR
VERSION:2.0
PRODID:-//Ehrenamt in Brandenburg - ECPv6.15.20//NONSGML v1.0//EN
CALSCALE:GREGORIAN
METHOD:PUBLISH
X-WR-CALNAME:Ehrenamt in Brandenburg
X-ORIGINAL-URL:https://ehrenamt-in-brandenburg.de
X-WR-CALDESC:Veranstaltungen für Ehrenamt in Brandenburg
REFRESH-INTERVAL;VALUE=DURATION:PT1H
X-Robots-Tag:noindex
X-PUBLISHED-TTL:PT1H
BEGIN:VTIMEZONE
TZID:Europe/Berlin
BEGIN:DAYLIGHT
TZOFFSETFROM:+0100
TZOFFSETTO:+0200
TZNAME:CEST
DTSTART:20250330T010000
END:DAYLIGHT
BEGIN:STANDARD
TZOFFSETFROM:+0200
TZOFFSETTO:+0100
TZNAME:CET
DTSTART:20251026T010000
END:STANDARD
BEGIN:DAYLIGHT
TZOFFSETFROM:+0100
TZOFFSETTO:+0200
TZNAME:CEST
DTSTART:20260329T010000
END:DAYLIGHT
BEGIN:STANDARD
TZOFFSETFROM:+0200
TZOFFSETTO:+0100
TZNAME:CET
DTSTART:20261025T010000
END:STANDARD
BEGIN:DAYLIGHT
TZOFFSETFROM:+0100
TZOFFSETTO:+0200
TZNAME:CEST
DTSTART:20270328T010000
END:DAYLIGHT
BEGIN:STANDARD
TZOFFSETFROM:+0200
TZOFFSETTO:+0100
TZNAME:CET
DTSTART:20271031T010000
END:STANDARD
END:VTIMEZONE
BEGIN:VEVENT
DTSTART;TZID=Europe/Berlin:20260204T170000
DTEND;TZID=Europe/Berlin:20260204T181500
DTSTAMP:20260421T181506
CREATED:20251208T163118Z
LAST-MODIFIED:20251208T163118Z
UID:18099-1770224400-1770228900@ehrenamt-in-brandenburg.de
SUMMARY:#DSEEerklärt Steuern und Gemeinnützigkeit: Alles bleibt anders - Verbesserungen für Vereine im Jahressteuergesetz
DESCRIPTION:Das Jahressteuergesetz 2025 bringt einige Verbesserungen für gemeinnützige Vereine. In diesem Online-Seminar erfahrt ihr\, was sich ab 2026 ändert: höhere Freigrenzen für den wirtschaftlichen Geschäftsbetrieb und bei der Pflicht zur zeitnahen Mittelverwendung\, angehobene Ehrenamts- und Übungsleiterpauschalen\, neue Zwecke wie E-Sport und die steuerliche Behandlung von Photovoltaikanlagen. Anhand praktischer Beispiele zeigen wir\, welche Vorteile und Erleichterungen sich künftig für euren Verein ergeben. \n\n\n\n\n\n\n\n\n\n\nDieses Angebot richtet sich gleichermaßen an Einsteiger und Fortgeschrittene. \n\n\n\n\n\n\n\n\n\n\nHinweis: Wir bieten für dieses Online-Seminar einen Wiederholungstermin am 4. Februar 202
URL:https://ehrenamt-in-brandenburg.de/event/dseeerklaert-steuern-und-gemeinnuetzigkeit-alles-bleibt-anders-verbesserungen-fuer-vereine-im-jahressteuergesetz-2/
LOCATION:Online
CATEGORIES:Online,Webinar
ORGANIZER;CN="Deutsche Stiftung f%C3%BCr Engagement und Ehrenamt":MAILTO:hallo@d-s-e-e.de
END:VEVENT
END:VCALENDAR