BEGIN:VCALENDAR
VERSION:2.0
PRODID:-//Ehrenamt in Brandenburg - ECPv6.15.20//NONSGML v1.0//EN
CALSCALE:GREGORIAN
METHOD:PUBLISH
X-ORIGINAL-URL:https://ehrenamt-in-brandenburg.de
X-WR-CALDESC:Veranstaltungen für Ehrenamt in Brandenburg
REFRESH-INTERVAL;VALUE=DURATION:PT1H
X-Robots-Tag:noindex
X-PUBLISHED-TTL:PT1H
BEGIN:VTIMEZONE
TZID:Europe/Berlin
BEGIN:DAYLIGHT
TZOFFSETFROM:+0100
TZOFFSETTO:+0200
TZNAME:CEST
DTSTART:20250330T010000
END:DAYLIGHT
BEGIN:STANDARD
TZOFFSETFROM:+0200
TZOFFSETTO:+0100
TZNAME:CET
DTSTART:20251026T010000
END:STANDARD
BEGIN:DAYLIGHT
TZOFFSETFROM:+0100
TZOFFSETTO:+0200
TZNAME:CEST
DTSTART:20260329T010000
END:DAYLIGHT
BEGIN:STANDARD
TZOFFSETFROM:+0200
TZOFFSETTO:+0100
TZNAME:CET
DTSTART:20261025T010000
END:STANDARD
BEGIN:DAYLIGHT
TZOFFSETFROM:+0100
TZOFFSETTO:+0200
TZNAME:CEST
DTSTART:20270328T010000
END:DAYLIGHT
BEGIN:STANDARD
TZOFFSETFROM:+0200
TZOFFSETTO:+0100
TZNAME:CET
DTSTART:20271031T010000
END:STANDARD
END:VTIMEZONE
BEGIN:VEVENT
DTSTART;TZID=Europe/Berlin:20260203T170000
DTEND;TZID=Europe/Berlin:20260203T181500
DTSTAMP:20260421T213442
CREATED:20251208T162750Z
LAST-MODIFIED:20251208T162750Z
UID:18095-1770138000-1770142500@ehrenamt-in-brandenburg.de
SUMMARY:#DSEEerklärt Steuern und Gemeinnützigkeit: Gut zu wissen\, besser verstehen - Grundlagen der Gemeinnützigkeit
DESCRIPTION:Die Gemeinnützigkeit ist Grundlage vieler Vereine – und zugleich mit strengen Regeln verbunden. In diesem Online-Seminar erfahrt ihr\, wie sie ins Steuersystem eingebettet ist\, welche Vor- und Nachteile sie bringt und was es mit den vier Tätigkeitssphären auf sich hat. Außerdem lernt ihr\, welche Vorgaben für Satzung\, Mittelverwendung und Zweckverwirklichung gelten – für mehr Sicherheit und Klarheit für euren Vereinsalltag. \nDieses Angebot richtet sich vorrangig an Einsteiger:innen und an Fortgeschrittene zur Wiederholung und Vertiefung. \nHinweis: Wir bieten für dieses Online-Seminar einen Wiederholungstermin am 3. Februar 2026 an.
URL:https://ehrenamt-in-brandenburg.de/event/dseeerklaert-steuern-und-gemeinnuetzigkeit-gut-zu-wissen-besser-verstehen-grundlagen-der-gemeinnuetzigkeit-2/
LOCATION:Online
CATEGORIES:Webinar
ORGANIZER;CN="Deutsche Stiftung f%C3%BCr Engagement und Ehrenamt":MAILTO:hallo@d-s-e-e.de
END:VEVENT
END:VCALENDAR