BEGIN:VCALENDAR
VERSION:2.0
PRODID:-//Ehrenamt in Brandenburg - ECPv6.15.20//NONSGML v1.0//EN
CALSCALE:GREGORIAN
METHOD:PUBLISH
X-ORIGINAL-URL:https://ehrenamt-in-brandenburg.de
X-WR-CALDESC:Veranstaltungen für Ehrenamt in Brandenburg
REFRESH-INTERVAL;VALUE=DURATION:PT1H
X-Robots-Tag:noindex
X-PUBLISHED-TTL:PT1H
BEGIN:VTIMEZONE
TZID:Europe/Berlin
BEGIN:DAYLIGHT
TZOFFSETFROM:+0100
TZOFFSETTO:+0200
TZNAME:CEST
DTSTART:20250330T010000
END:DAYLIGHT
BEGIN:STANDARD
TZOFFSETFROM:+0200
TZOFFSETTO:+0100
TZNAME:CET
DTSTART:20251026T010000
END:STANDARD
BEGIN:DAYLIGHT
TZOFFSETFROM:+0100
TZOFFSETTO:+0200
TZNAME:CEST
DTSTART:20260329T010000
END:DAYLIGHT
BEGIN:STANDARD
TZOFFSETFROM:+0200
TZOFFSETTO:+0100
TZNAME:CET
DTSTART:20261025T010000
END:STANDARD
BEGIN:DAYLIGHT
TZOFFSETFROM:+0100
TZOFFSETTO:+0200
TZNAME:CEST
DTSTART:20270328T010000
END:DAYLIGHT
BEGIN:STANDARD
TZOFFSETFROM:+0200
TZOFFSETTO:+0100
TZNAME:CET
DTSTART:20271031T010000
END:STANDARD
END:VTIMEZONE
BEGIN:VEVENT
DTSTART;TZID=Europe/Berlin:20260127T190000
DTEND;TZID=Europe/Berlin:20260127T200000
DTSTAMP:20260423T013826
CREATED:20260120T141149Z
LAST-MODIFIED:20260120T141622Z
UID:18198-1769540400-1769544000@ehrenamt-in-brandenburg.de
SUMMARY:lsfb-Ideenwerkstatt: Erinnern ohne Zeitzeug*innen\, erinnern mit Zweitzeug*innen!
DESCRIPTION:Gemeinsam mit dem Verein ZWEITZEUGEN e.V. führt der lsfb am Tag des Gedenkens an die Opfer des Nationalsozialismus diese Veranstaltung durch\, in dem neue Methoden der Erinnerungsarbeit an die Zeit des Nationalsozialismus vorgestellt werden. \nWie kann Erinnern gelingen\, wenn es keine Zeitzeug*innen mehr gibt? ZWEITZEUGEN e.V. zeigt\, wie durch persönliche Erzählungen von Holocaust-Überlebenden und die Weitergabe durch junge Menschen eine einfühlsame und wirksame Erinnerungskultur möglich wird – gegen das Vergessen und gegen Antisemitismus. \nIn der interaktiven Informationsveranstaltung werden der Bildungsansatz\, die Methoden und die Workshopformate vorgestellt – einige davon können direkt erprobt werden. \nZielgruppe: Pädagog*innen und Multiplikator*innen\, alle am Thema interessierte Personen\, Engagierte in Kita- und Schulfördervereinen
URL:https://ehrenamt-in-brandenburg.de/event/lsfb-ideenwerkstatt-erinnern-ohne-zeitzeuginnen-erinnern-mit-zweitzeuginnen/
LOCATION:Online mit Zoom
CATEGORIES:Online,Webinar
END:VEVENT
END:VCALENDAR