BEGIN:VCALENDAR
VERSION:2.0
PRODID:-//Ehrenamt in Brandenburg - ECPv6.15.20//NONSGML v1.0//EN
CALSCALE:GREGORIAN
METHOD:PUBLISH
X-ORIGINAL-URL:https://ehrenamt-in-brandenburg.de
X-WR-CALDESC:Veranstaltungen für Ehrenamt in Brandenburg
REFRESH-INTERVAL;VALUE=DURATION:PT1H
X-Robots-Tag:noindex
X-PUBLISHED-TTL:PT1H
BEGIN:VTIMEZONE
TZID:Europe/Berlin
BEGIN:DAYLIGHT
TZOFFSETFROM:+0100
TZOFFSETTO:+0200
TZNAME:CEST
DTSTART:20250330T010000
END:DAYLIGHT
BEGIN:STANDARD
TZOFFSETFROM:+0200
TZOFFSETTO:+0100
TZNAME:CET
DTSTART:20251026T010000
END:STANDARD
BEGIN:DAYLIGHT
TZOFFSETFROM:+0100
TZOFFSETTO:+0200
TZNAME:CEST
DTSTART:20260329T010000
END:DAYLIGHT
BEGIN:STANDARD
TZOFFSETFROM:+0200
TZOFFSETTO:+0100
TZNAME:CET
DTSTART:20261025T010000
END:STANDARD
BEGIN:DAYLIGHT
TZOFFSETFROM:+0100
TZOFFSETTO:+0200
TZNAME:CEST
DTSTART:20270328T010000
END:DAYLIGHT
BEGIN:STANDARD
TZOFFSETFROM:+0200
TZOFFSETTO:+0100
TZNAME:CET
DTSTART:20271031T010000
END:STANDARD
END:VTIMEZONE
BEGIN:VEVENT
DTSTART;TZID=Europe/Berlin:20260121T170000
DTEND;TZID=Europe/Berlin:20260121T181500
DTSTAMP:20260424T190737
CREATED:20251208T164220Z
LAST-MODIFIED:20251208T164220Z
UID:18107-1769014800-1769019300@ehrenamt-in-brandenburg.de
SUMMARY:#DSEEerklärt Vereinsschule: Gemeinsam wirken – Strategisch führen im Ehrenamt
DESCRIPTION:In diesem Online-Seminar erfahrt ihr\, wie Vereine mit klarer Vision und gemeinsamer Richtung wirksamer arbeiten können. Strategisches Denken wird mit Motivation und Beteiligung verknüpft: Wie lassen sich Ziele\, Verantwortung und Aufgaben so gestalten\, dass Ehrenamtliche Orientierung und Sinn erleben? Ihr bekommt praxisnahe Methoden\, um Zusammenarbeit zu strukturieren und Fortschritt sichtbar zu machen. Ihr erfahrt\, wie persönliche Entwicklungsziele und Vereinsstrategie ineinandergreifen – und wie daraus im Alltag konkrete Wirkung entsteht. \nDieses Angebot richtig sich an Engagierte\, die bereits Vorerfahrung in diesem Themengebiet haben.
URL:https://ehrenamt-in-brandenburg.de/event/dseeerklaert-vereinsschule-gemeinsam-wirken-strategisch-fuehren-im-ehrenamt/
LOCATION:Online
CATEGORIES:Online,Webinar
ORGANIZER;CN="Deutsche Stiftung f%C3%BCr Engagement und Ehrenamt":MAILTO:hallo@d-s-e-e.de
END:VEVENT
END:VCALENDAR