BEGIN:VCALENDAR
VERSION:2.0
PRODID:-//Ehrenamt in Brandenburg - ECPv6.15.20//NONSGML v1.0//EN
CALSCALE:GREGORIAN
METHOD:PUBLISH
X-WR-CALNAME:Ehrenamt in Brandenburg
X-ORIGINAL-URL:https://ehrenamt-in-brandenburg.de
X-WR-CALDESC:Veranstaltungen für Ehrenamt in Brandenburg
REFRESH-INTERVAL;VALUE=DURATION:PT1H
X-Robots-Tag:noindex
X-PUBLISHED-TTL:PT1H
BEGIN:VTIMEZONE
TZID:Europe/Berlin
BEGIN:DAYLIGHT
TZOFFSETFROM:+0100
TZOFFSETTO:+0200
TZNAME:CEST
DTSTART:20220327T010000
END:DAYLIGHT
BEGIN:STANDARD
TZOFFSETFROM:+0200
TZOFFSETTO:+0100
TZNAME:CET
DTSTART:20221030T010000
END:STANDARD
BEGIN:DAYLIGHT
TZOFFSETFROM:+0100
TZOFFSETTO:+0200
TZNAME:CEST
DTSTART:20230326T010000
END:DAYLIGHT
BEGIN:STANDARD
TZOFFSETFROM:+0200
TZOFFSETTO:+0100
TZNAME:CET
DTSTART:20231029T010000
END:STANDARD
BEGIN:DAYLIGHT
TZOFFSETFROM:+0100
TZOFFSETTO:+0200
TZNAME:CEST
DTSTART:20240331T010000
END:DAYLIGHT
BEGIN:STANDARD
TZOFFSETFROM:+0200
TZOFFSETTO:+0100
TZNAME:CET
DTSTART:20241027T010000
END:STANDARD
END:VTIMEZONE
BEGIN:VEVENT
DTSTART;TZID=Europe/Berlin:20231125T090000
DTEND;TZID=Europe/Berlin:20231125T150000
DTSTAMP:20260422T130530
CREATED:20231109T102437Z
LAST-MODIFIED:20231109T102437Z
UID:14766-1700902800-1700924400@ehrenamt-in-brandenburg.de
SUMMARY:Doppelseminar Steuerrecht und Buchführung für Kita- und Schulfördervereine
DESCRIPTION:Die zwei Seminare finden mit einer Pause dazwischen statt und wenden sich an alle Fördervereinsaktive\, Vorsitzende\, Schatzmeister*innen und natürlich an alle interessierten Lehrkräfte und Eltern. \nNutzen Sie die Chance\, uns live zu treffen. Ab 9 Uhr stehen Ihnen Expert*innen des lsfb für Beratungen und Ihre Fragen zur Verfügung. Schicken Sie uns gerne Ihr Anliegen im Vorfeld! \nProgramm:\nab 9 Uhr\nBegrüßung\, Austausch\, Kaffee – Expert*innen des lsfb stehen für eine persönliche Beratung zur Verfügung. \n10 – 12 Uhr\nSteuerrecht für Kita- und Schulfördervereine \n12 – 13 Uhr\nMittagspause mit gemeinsamem Essen\, Austausch\, Kennenlernen\, Beantwortung Ihrer Fragen zu Themen rund um Kita- und Schulfördervereine \n13 – 15 Uhr\nBuchführung für Kita- und Schulfördervereine mit “learning by doing”!
URL:https://ehrenamt-in-brandenburg.de/event/doppelseminar-steuerrecht-und-buchfuehrung-fuer-kita-und-schulfoerdervereine/
LOCATION:Landesverband der Kita- und Schufördervereine Berlin-Brandenburg\, Am Festungsgraben 1\, Berlin\, 10117
CATEGORIES:Hybrid-Tagung,Online,Seminar
ORGANIZER;CN="Landesverband der Kita- und Schulf%C3%B6rdervereine":MAILTO:info@lsfb.de
END:VEVENT
BEGIN:VEVENT
DTSTART;TZID=Europe/Berlin:20231125T093000
DTEND;TZID=Europe/Berlin:20231125T150000
DTSTAMP:20260422T130530
CREATED:20231109T102732Z
LAST-MODIFIED:20231109T102732Z
UID:14769-1700904600-1700924400@ehrenamt-in-brandenburg.de
SUMMARY:Zweiter bundesweiter Seminarfachtag
DESCRIPTION:Am 25. November 2023 findet in Kooperation mit dem Bundesverband der Kita- und Schulfördervereine e.V. (BSFV) der zweite bundesweite Seminarfachtag der Landesverbände der Kita- und Schulfördervereine in Deutschland statt. \nSie haben die Chance\, vor Ort in fünf Städten an den Seminaren teilzunehmen oder rein digital. \nEs werden Seminare zu folgenden Themen angeboten: \n\nKita- und Schulfördervereine erfolgreich gestalten\nDatenschutz im Verein\nDer Verein als Arbeitgeber\nVereinshaftung – Risiken im Ehrenamt\nSteuerrecht für Kita- und Schulfördervereine (in Berlin)\nBuchführung für Kita- und Schulfördervereine (in Berlin)\nTue Gutes und rede darüber\nSpenden und Fördermittel\nWarum meine Satzung so wichtig ist!\nGanztagsbetreuung ab 2026 in Deutschland
URL:https://ehrenamt-in-brandenburg.de/event/zweiter-bundesweiter-seminarfachtag/
LOCATION:hybrid
CATEGORIES:Fachtag,Seminar
ORGANIZER;CN="Landesverband der Kita- und Schulf%C3%B6rdervereine":MAILTO:info@lsfb.de
END:VEVENT
END:VCALENDAR