BEGIN:VCALENDAR
VERSION:2.0
PRODID:-//Ehrenamt in Brandenburg - ECPv6.15.20//NONSGML v1.0//EN
CALSCALE:GREGORIAN
METHOD:PUBLISH
X-ORIGINAL-URL:https://ehrenamt-in-brandenburg.de
X-WR-CALDESC:Veranstaltungen für Ehrenamt in Brandenburg
REFRESH-INTERVAL;VALUE=DURATION:PT1H
X-Robots-Tag:noindex
X-PUBLISHED-TTL:PT1H
BEGIN:VTIMEZONE
TZID:Europe/Berlin
BEGIN:DAYLIGHT
TZOFFSETFROM:+0100
TZOFFSETTO:+0200
TZNAME:CEST
DTSTART:20220327T010000
END:DAYLIGHT
BEGIN:STANDARD
TZOFFSETFROM:+0200
TZOFFSETTO:+0100
TZNAME:CET
DTSTART:20221030T010000
END:STANDARD
BEGIN:DAYLIGHT
TZOFFSETFROM:+0100
TZOFFSETTO:+0200
TZNAME:CEST
DTSTART:20230326T010000
END:DAYLIGHT
BEGIN:STANDARD
TZOFFSETFROM:+0200
TZOFFSETTO:+0100
TZNAME:CET
DTSTART:20231029T010000
END:STANDARD
BEGIN:DAYLIGHT
TZOFFSETFROM:+0100
TZOFFSETTO:+0200
TZNAME:CEST
DTSTART:20240331T010000
END:DAYLIGHT
BEGIN:STANDARD
TZOFFSETFROM:+0200
TZOFFSETTO:+0100
TZNAME:CET
DTSTART:20241027T010000
END:STANDARD
END:VTIMEZONE
BEGIN:VEVENT
DTSTART;TZID=Europe/Berlin:20231123T153000
DTEND;TZID=Europe/Berlin:20231123T164500
DTSTAMP:20260420T145549
CREATED:20231113T084642Z
LAST-MODIFIED:20231113T084642Z
UID:14809-1700753400-1700757900@ehrenamt-in-brandenburg.de
SUMMARY:Verschwörungserzählungen: Phänomen\, Kritik\, Umgang
DESCRIPTION:Was tun\, wenn mein Freund oder meine Schwester Verschwörungstheorien verbreitet? \nWas sind Verschwörungserzählungen? Was ist daran wahr\, was nicht? Wie gefährlich sind die Erzählungen? Was tue ich\, wenn eine nahestehende Person Verschwörungserzählungen verbreitet? \nIn der Covid-19 Pandemie haben viele Menschen Kontakt mit Verschwörungserzählungen gehabt. Ein nahestehender Bekannter schickt ein Video\, indem die Rede von einer „Plandemie“ ist. Doch auch andere Ereignisse eignen sich anscheinend für die Verbreitung. Ein Kollege auf der Arbeit berichtet von einer Verschwörung hinter dem Klima-Wandel. Viele Menschen fragen sind dann\, muss ich hierauf reagieren? Wie gefährlich sind solche Gedanken? Ist es möglich\, eine Verschwörungserzählung zu widerlegen? In unserer Veranstaltungsreihe wollen wir diese Fragen beantworten. \nIn Teil 3 der dreiteiligen Veranstaltungsreihe mit Benjamin Winkler (Amadeu Antonio Stiftung)  werden die Teilnehmenden zunächst gebeten\, typische Situationen zu nennen\, in denen sie familiär oder im Freundeskreis Kontakt mit Verschwörungserzählungen haben. Im Anschluss erläutert Benjamin Winkler Möglichkeiten der Begegnung und der Intervention. Die Teilnehmenden kommen dann mit dem Referenten und untereinander ins Gespräch. \nÜber den Dozenten: \nBenjamin Winkler ist Soziologe und arbeitet als Projekt- und Büroleiter der Amadeu Antonio Stiftung in Sachsen. Er beschäftigt sich seit vielen Jahren mit Rechtsextremismus und hier besonders Reichs- und Verschwörungsideologien. Die Amadeu Antonio Stiftung ist eine 1998 gegründete gemeinnützige Stiftung. Sie unterstützt bundesweit Initiativen\, Vereine\, Organisationen und Einzelpersonen\, die sich gegen Rechtsextremismus\, Rassismus oder Antisemitismus engagieren. \nFür diese Veranstaltungsreihe können Sie ein WERKSTATT MR Zertifikat erwerben. Für einen produktiven gemeinsamen Gruppenprozess und als Voraussetzung für ein Teilnahmezertifikat ist die Teilnahme an (möglichst) allen Terminen erforderlich. Es ist aber auch möglich an einzelnen Veranstaltungen teilzunehmen.
URL:https://ehrenamt-in-brandenburg.de/event/verschwoerungserzaehlungen-phaenomen-kritik-umgang/
LOCATION:digital
CATEGORIES:Online
ORGANIZER;CN="WERKSTATT MR":MAILTO:info@werkstatt-mr.net
END:VEVENT
BEGIN:VEVENT
DTSTART;TZID=Europe/Berlin:20231123T170000
DTEND;TZID=Europe/Berlin:20231123T174500
DTSTAMP:20260420T145549
CREATED:20231109T104836Z
LAST-MODIFIED:20231109T104836Z
UID:14780-1700758800-1700761500@ehrenamt-in-brandenburg.de
SUMMARY:#DSEEinformiert: Engagiertes Land
DESCRIPTION:Jetzt im Programm Engagiertes Land bewerben! \nDas Programm Engagiertes Land zielt darauf ab\, lokale Gemeinschaften in strukturschwachen ländlichen Gebieten zu unterstützen\, um bürgerschaftliches Engagement\, Ehrenamt und Beteiligung vor Ort zu fördern. \nAb dem 15. November 2023 bis zum 17. Januar 2024 könnt ihr eure Interessensbekundungen für das Programm einreichen! Die ausgewählten Netzwerke können zunächst vom 1.7.2024-31.12.2025 gefördert werden. Das Förderprogramm ist langfristig angelegt. \nSeid ihr dabei? Ob Heimatverein oder Klimaschutz-Initiative\, kommunale Verwaltung oder ehrenamtliche Bürgermeisterinnen und Bürgermeister\, Kneipe oder lokaler Handwerksbetrieb: Wenn verschiedene Organisationen zusammenarbeiten\, entstehen gemeinsame Ideen und werden Kräfte für deren Umsetzung gebündelt. Gerade in strukturschwachen ländlichen Räumen braucht es eine starke Engagementkultur mit vielen Mitstreiterinnen und Mitstreitern. \nGenau hier setzt das Programm Engagiertes Land mit unseren Programm-Partnern Bundesnetzwerk Bürgerschaftliches Engagement (BBE) und Thünen-Institut für Regionalentwicklung e. V. an: Wir unterstützen lokale Netzwerke in strukturschwachen ländlichen Dörfern\, Kleinstädten oder Gemeinden mit bis zu 10.000 Einwohnerinnen und Einwohnern\, die bürgerschaftliches Engagement\, Ehrenamt und Beteiligung vor Ort stärken wollen.\nDie Online-Programmvorstellung gibt einen Überblick über das Programm und bietet Raum für eure Fragen und Anregungen.
URL:https://ehrenamt-in-brandenburg.de/event/dseeinformiert-engagiertes-land/
LOCATION:digital
CATEGORIES:Online
ORGANIZER;CN="Deutsche Stiftung f%C3%BCr Engagement und Ehrenamt":MAILTO:hallo@d-s-e-e.de
END:VEVENT
END:VCALENDAR