BEGIN:VCALENDAR
VERSION:2.0
PRODID:-//Ehrenamt in Brandenburg - ECPv6.15.20//NONSGML v1.0//EN
CALSCALE:GREGORIAN
METHOD:PUBLISH
X-ORIGINAL-URL:https://ehrenamt-in-brandenburg.de
X-WR-CALDESC:Veranstaltungen für Ehrenamt in Brandenburg
REFRESH-INTERVAL;VALUE=DURATION:PT1H
X-Robots-Tag:noindex
X-PUBLISHED-TTL:PT1H
BEGIN:VTIMEZONE
TZID:Europe/Berlin
BEGIN:DAYLIGHT
TZOFFSETFROM:+0100
TZOFFSETTO:+0200
TZNAME:CEST
DTSTART:20220327T010000
END:DAYLIGHT
BEGIN:STANDARD
TZOFFSETFROM:+0200
TZOFFSETTO:+0100
TZNAME:CET
DTSTART:20221030T010000
END:STANDARD
BEGIN:DAYLIGHT
TZOFFSETFROM:+0100
TZOFFSETTO:+0200
TZNAME:CEST
DTSTART:20230326T010000
END:DAYLIGHT
BEGIN:STANDARD
TZOFFSETFROM:+0200
TZOFFSETTO:+0100
TZNAME:CET
DTSTART:20231029T010000
END:STANDARD
BEGIN:DAYLIGHT
TZOFFSETFROM:+0100
TZOFFSETTO:+0200
TZNAME:CEST
DTSTART:20240331T010000
END:DAYLIGHT
BEGIN:STANDARD
TZOFFSETFROM:+0200
TZOFFSETTO:+0100
TZNAME:CET
DTSTART:20241027T010000
END:STANDARD
END:VTIMEZONE
BEGIN:VEVENT
DTSTART;VALUE=DATE:20231117
DTEND;VALUE=DATE:20231119
DTSTAMP:20260419T235037
CREATED:20231020T111233Z
LAST-MODIFIED:20231020T113204Z
UID:14665-1700179200-1700351999@ehrenamt-in-brandenburg.de
SUMMARY:#TRANSFORM_D: DER SUMMIT
DESCRIPTION:Der transform_d Summit im Vollgutlager in Berlin bietet Raum\, aktiv die prägendsten Transformationsprozesse der heutigen Zeit mitzugestalten: den Klimawandel\, die Digitalisierung und den unter Druck stehenden gesellschaftlichen Zusammenhalt. Es werden rund 500 Gäste aus Zivilgesellschaft\, Politik\, Sozialunternehmertum und natürlich auch Engagement & Ehrenamt erwartet. \nWas erwartet euch? Der transform_d Summit ist Inspiration\, Lernreise\, Empowerment\, Co-Creation und Netzwerk-Event zugleich: \n\nein Raum zur Erweiterung von Wissen und Perspektiven durch inspirierende Keynote-Speaker\neine Gelegenheit\, innovative Ideen zu teilen und zusammen neue Ansätze zu entwickeln\nein Treffpunkt\, an dem Engagierte & Ehrenamtliche\, Führungspersönlichkeiten sowie Expertinnen und Experten sich kennenlernen und vernetzen
URL:https://ehrenamt-in-brandenburg.de/event/transform_d-der-summit-2/
LOCATION:Vollgutlager Berlin\, Rollbergstraße 26\, Berlin\, 12053
CATEGORIES:Fachkonferenz,Seminar
ORGANIZER;CN="Deutsche Stiftung f%C3%BCr Engagement und Ehrenamt":MAILTO:hallo@d-s-e-e.de
END:VEVENT
END:VCALENDAR